BEGIN:VCALENDAR
VERSION:2.0
PRODID:-//Acoldese - ECPv6.15.11//NONSGML v1.0//EN
CALSCALE:GREGORIAN
METHOD:PUBLISH
X-WR-CALNAME:Acoldese
X-ORIGINAL-URL:https://acoldeseaida.org
X-WR-CALDESC:Eventos para Acoldese
REFRESH-INTERVAL;VALUE=DURATION:PT1H
X-Robots-Tag:noindex
X-PUBLISHED-TTL:PT1H
BEGIN:VTIMEZONE
TZID:America/Bogota
BEGIN:STANDARD
TZOFFSETFROM:-0500
TZOFFSETTO:-0500
TZNAME:-05
DTSTART:20250101T000000
END:STANDARD
END:VTIMEZONE
BEGIN:VEVENT
DTSTART;VALUE=DATE:20260826
DTEND;VALUE=DATE:20260829
DTSTAMP:20260423T155626
CREATED:20260222T200556Z
LAST-MODIFIED:20260222T200556Z
UID:6743-1787702400-1787961599@acoldeseaida.org
SUMMARY:XIX Congreso CILA-AIDA & 33° Encuentro ACOLDESE
DESCRIPTION:XIX Congreso CILA-AIDA & 33° Encuentro ACOLDESE \n“El Futuro del Derecho de Seguros en Iberoamérica”\nCartagena de Indias – Agosto 26 a 28 de 2026\nHotel Cartagena Hilton
URL:https://acoldeseaida.org/proximos_evento/xix-congreso-cila-aida-33-encuentro-acoldese/
ATTACH;FMTTYPE=image/jpeg:https://acoldeseaida.org/wp-content/uploads/2025/12/1-33-acol-cila.jpeg
ORGANIZER;CN="Asociaci%C3%B3n Colombiana de Derecho de Seguros (ACOLDESE)":MAILTO:acoldese@acoldeseaida.org
END:VEVENT
END:VCALENDAR