BEGIN:VCALENDAR
VERSION:2.0
PRODID:-//Acoldese - ECPv6.15.11//NONSGML v1.0//EN
CALSCALE:GREGORIAN
METHOD:PUBLISH
X-WR-CALNAME:Acoldese
X-ORIGINAL-URL:https://acoldeseaida.org
X-WR-CALDESC:Eventos para Acoldese
REFRESH-INTERVAL;VALUE=DURATION:PT1H
X-Robots-Tag:noindex
X-PUBLISHED-TTL:PT1H
BEGIN:VTIMEZONE
TZID:America/Bogota
BEGIN:STANDARD
TZOFFSETFROM:-0500
TZOFFSETTO:-0500
TZNAME:-05
DTSTART:20240101T000000
END:STANDARD
END:VTIMEZONE
BEGIN:VEVENT
DTSTART;TZID=America/Bogota:20250506T180000
DTEND;TZID=America/Bogota:20250506T200000
DTSTAMP:20260424T084633
CREATED:20250609T212459Z
LAST-MODIFIED:20250609T212459Z
UID:5540-1746554400-1746561600@acoldeseaida.org
SUMMARY:Análisis del fallo del Consejo de Estado del caso de la Licorera del Valle
DESCRIPTION:Análisis de la sentencia proferida por el CE que resolvió la solicitud de nulidad del fallo con responsabilidad del PRF 007-2011 Industria de Licores del Valle \nInvitados:  Dr. Nicolás Uribe Lozada y Dr. Juan Diego Arango
URL:https://acoldeseaida.org/proximos_evento/analisis-del-fallo-del-consejo-de-estado-del-caso-de-la-licorera-del-valle/
LOCATION:Club de Banqueros 72\, Bogotá\, Colombia
ATTACH;FMTTYPE=image/jpeg:https://acoldeseaida.org/wp-content/uploads/2025/06/flyer-6-de-mayo.jpg
ORGANIZER;CN="Asociaci%C3%B3n Colombiana de Derecho de Seguros (ACOLDESE)":MAILTO:acoldese@acoldeseaida.org
END:VEVENT
BEGIN:VEVENT
DTSTART;TZID=America/Bogota:20250508T150000
DTEND;TZID=America/Bogota:20250508T160000
DTSTAMP:20260424T084633
CREATED:20250609T213338Z
LAST-MODIFIED:20250609T213903Z
UID:5544-1746716400-1746720000@acoldeseaida.org
SUMMARY:Sesión Cila Joven
DESCRIPTION:Regulación y Tecnología:  El impacto de Open Insurance y los Sandboxes en el sector asegurador. \nInvitados:  Andrea Moreno – Oscar Garza – Alberto Bogantes
URL:https://acoldeseaida.org/proximos_evento/sesion-cila-joven/
LOCATION:Zoom
ATTACH;FMTTYPE=image/jpeg:https://acoldeseaida.org/wp-content/uploads/2025/06/cila-8-de-mayo.jpg
END:VEVENT
BEGIN:VEVENT
DTSTART;TZID=America/Bogota:20250522T173000
DTEND;TZID=America/Bogota:20250522T183000
DTSTAMP:20260424T084633
CREATED:20250609T213717Z
LAST-MODIFIED:20250609T213941Z
UID:5549-1747935000-1747938600@acoldeseaida.org
SUMMARY:X FORO ACOLDESE JOVEN - La Construcción de confianza en los seguros de Riesgos Cibernéticos.
DESCRIPTION:Invitados:  Adriana Sofia Sales Porto – Diana Catalina Novoa Rubiano
URL:https://acoldeseaida.org/proximos_evento/x-foro-acoldese-joven-la-construccion-de-confianza-en-los-seguros-de-riesgos-ciberneticos/
ATTACH;FMTTYPE=image/jpeg:https://acoldeseaida.org/wp-content/uploads/2025/06/flyer-22-de-mayo.jpg
ORGANIZER;CN="ACOLDESE Joven":MAILTO:acoldese@acoldeseaida.org
END:VEVENT
END:VCALENDAR