BEGIN:VCALENDAR
VERSION:2.0
PRODID:-//Acoldese - ECPv6.15.11//NONSGML v1.0//EN
CALSCALE:GREGORIAN
METHOD:PUBLISH
X-ORIGINAL-URL:https://acoldeseaida.org
X-WR-CALDESC:Eventos para Acoldese
REFRESH-INTERVAL;VALUE=DURATION:PT1H
X-Robots-Tag:noindex
X-PUBLISHED-TTL:PT1H
BEGIN:VTIMEZONE
TZID:America/Bogota
BEGIN:STANDARD
TZOFFSETFROM:-0500
TZOFFSETTO:-0500
TZNAME:-05
DTSTART:20240101T000000
END:STANDARD
END:VTIMEZONE
BEGIN:VEVENT
DTSTART;TZID=America/Bogota:20250915T180000
DTEND;TZID=America/Bogota:20250915T190000
DTSTAMP:20260424T024011
CREATED:20250901T164546Z
LAST-MODIFIED:20250901T165204Z
UID:5918-1757959200-1757962800@acoldeseaida.org
SUMMARY:Tertulia 15 de septiembre 2025
DESCRIPTION:Tertulia 15 septiembre – Desafios del nuevo Código Procesal del Trabajo (Ley 2452 de 2025) pra la práctica en Seguros y Seguridad Social \nInvitada:  Dra Olga Yineth Merchan C.
URL:https://acoldeseaida.org/proximos_evento/tertulia-15-de-septiembre-2025/
LOCATION:Zoom
ATTACH;FMTTYPE=image/jpeg:https://acoldeseaida.org/wp-content/uploads/2025/09/flyer.jpeg
ORGANIZER;CN="Asociaci%C3%B3n Colombiana de Derecho de Seguros (ACOLDESE)":MAILTO:acoldese@acoldeseaida.org
END:VEVENT
END:VCALENDAR