BEGIN:VCALENDAR
VERSION:2.0
PRODID:-//Acoldese - ECPv6.15.11//NONSGML v1.0//EN
CALSCALE:GREGORIAN
METHOD:PUBLISH
X-ORIGINAL-URL:https://acoldeseaida.org
X-WR-CALDESC:Eventos para Acoldese
REFRESH-INTERVAL;VALUE=DURATION:PT1H
X-Robots-Tag:noindex
X-PUBLISHED-TTL:PT1H
BEGIN:VTIMEZONE
TZID:America/Bogota
BEGIN:STANDARD
TZOFFSETFROM:-0500
TZOFFSETTO:-0500
TZNAME:-05
DTSTART:20240101T000000
END:STANDARD
END:VTIMEZONE
BEGIN:VEVENT
DTSTART;TZID=America/Bogota:20250826T180000
DTEND;TZID=America/Bogota:20250826T193000
DTSTAMP:20260424T045629
CREATED:20250819T231007Z
LAST-MODIFIED:20250820T215020Z
UID:5855-1756231200-1756236600@acoldeseaida.org
SUMMARY:Tertulia 26 Agosto - Actualidad jurídica del seguro de vida en Colombia
DESCRIPTION:Tertulia 26 Agosto – Actualidad jurídica del seguro de vida: desafíos en la suscripción\, la ley de olvido oncológico y la regulación tributaria \nInvitado:  Dr. Milton Moreno
URL:https://acoldeseaida.org/proximos_evento/tertulia-26-agosto-actualidad-juridica-del-seguro-de-vida-en-colombia/
LOCATION:Zoom
ATTACH;FMTTYPE=image/jpeg:https://acoldeseaida.org/wp-content/uploads/2025/08/WhatsApp-Image-2025-08-19-at-5.12.25-PM.jpeg
ORGANIZER;CN="Asociaci%C3%B3n Colombiana de Derecho de Seguros (ACOLDESE)":MAILTO:acoldese@acoldeseaida.org
END:VEVENT
END:VCALENDAR